BEGIN:VCALENDAR
VERSION:2.0
PRODID:-//Medizintechnikakademie - ECPv6.15.20//NONSGML v1.0//EN
CALSCALE:GREGORIAN
METHOD:PUBLISH
X-WR-CALNAME:Medizintechnikakademie
X-ORIGINAL-URL:https://medizintechnikakademie.de
X-WR-CALDESC:Veranstaltungen für Medizintechnikakademie
REFRESH-INTERVAL;VALUE=DURATION:PT1H
X-Robots-Tag:noindex
X-PUBLISHED-TTL:PT1H
BEGIN:VTIMEZONE
TZID:Europe/Berlin
BEGIN:DAYLIGHT
TZOFFSETFROM:+0100
TZOFFSETTO:+0200
TZNAME:CEST
DTSTART:20240331T010000
END:DAYLIGHT
BEGIN:STANDARD
TZOFFSETFROM:+0200
TZOFFSETTO:+0100
TZNAME:CET
DTSTART:20241027T010000
END:STANDARD
BEGIN:DAYLIGHT
TZOFFSETFROM:+0100
TZOFFSETTO:+0200
TZNAME:CEST
DTSTART:20250330T010000
END:DAYLIGHT
BEGIN:STANDARD
TZOFFSETFROM:+0200
TZOFFSETTO:+0100
TZNAME:CET
DTSTART:20251026T010000
END:STANDARD
BEGIN:DAYLIGHT
TZOFFSETFROM:+0100
TZOFFSETTO:+0200
TZNAME:CEST
DTSTART:20260329T010000
END:DAYLIGHT
BEGIN:STANDARD
TZOFFSETFROM:+0200
TZOFFSETTO:+0100
TZNAME:CET
DTSTART:20261025T010000
END:STANDARD
END:VTIMEZONE
BEGIN:VEVENT
DTSTART;TZID=Europe/Berlin:20250709T090000
DTEND;TZID=Europe/Berlin:20250709T170000
DTSTAMP:20260423T144835
CREATED:20240118T134622Z
LAST-MODIFIED:20240423T151930Z
UID:5884-1752051600-1752080400@medizintechnikakademie.de
SUMMARY:Qualitätsmanagementbeauftragter (QMB) für Medizinprodukte
DESCRIPTION:Ziel\nUnser Lehrgang zeigt Ihnen die spezifischen Verantwortlichkeiten und Zuständigkeiten\, die der QMB / BdL bei der Einführung\, Überwachung und Dokumentation des QM-Systems beachten muss. Das senetics-Seminar richtet sich an Experten für die Qualität von Medizinprodukten\, die ihr Wissen über die ISO 13485 vertiefen möchten und als QMB / BdL tätig sind. \nInhalt\nMit den Grundlagen eines Qualitätsmanagementsystems nach ISO 13485 sind Sie bereits vertraut. Sie sind als Qualitätsmanagement-beauftragter ISO 13485 ggf. für die Einführung\, die Realisierung\, die Weiterentwicklung und Aufrechterhaltung sowie die ständige Überwachung des Qualitätsmanagementsystems und den damit einhergehenden erforderlichen Prozessen in Ihrem Unternehmen verantwortlich. Sie möchten nun Ihr Wissen und Ihre Kompetenzen für alle Aufgaben als Qualitätsmanagement-beauftragter ISO 13485 erweitern und für diese Position entsprechend qualifiziert werden.Als QMB für Medizinprodukte fungieren Sie als zentraler Ansprechpartner in allen Belangen des Qualitätsmanagements. Dabei sind Sie nicht nur der interne Ansprechpartner für Mitarbeiter und die oberste Leitung in Ihrem Unternehmen\, sondern sind ebenfalls für externe Stellen\, wie die Zertifizierungsstelle / Benannte Stelle und zuständige Behörden\, der erste Kontakt. Diesen Stellen müssen Sie als QMB für Medizinprodukte ein funktionierendes QM-System nachweisen\, welches unter Berücksichtigung der normativen und regulatorischen Anforderungen sichere Medizinprodukte zum Ergebnis hat.Lernen Sie in dieser Schulung QMB\, wie Sie der Rolle und den Aufgaben als Qualitätsmanagementbeauftragter ISO 13485 gerecht werden. \nThemen\n• Überblick über die regulatorischen Anforderungen und Normen für Medizinproduktehersteller• Aufgaben des QMB im Rahmen der Einhaltung der gesetzlichen Anforderungen an Medizinprodukte• Aufgaben- und Anforderungsprofil des QMB nach DIN EN ISO 13485• Ernennung\, Aufgaben\, Rechte und Pflichten• Zuständigkeiten und Abgrenzung der Verantwortlichkeiten in Bezug zu den anderen Funktionen\, wie für die Einhaltung der Regulierungsvorschriften verantwortliche Person\, Manager Regulatory• Affairs oder Responsible Person• Normenkonforme Dokumentation des QM-Systems• Überwachung des QM-Systems und interne Audits• Richtiges Verhalten bei Inspektionen und Audits von externen Stellen z.B. Benannte Stelle\, zuständige Behörde\, FDA• Vertiefung anhand von Fallbeispielen \n  \nDauer\n1 Tag \n09.00 – 17.00 Uhr (8 Seminarstunden) \n  \n \nStandardpreis\n998€ zzgl. MwSt. \nNeZuMed Rabatt\n10% NeZuMed Partner = 898\,20€ zzgl. MwSt.50% NeZuMed Mitglied = 499€ zzgl. MwSt. \n  \nKontakt\nE-Mail: info@senetics.deTel.: +49 (0) 981 9724 795-0
URL:https://medizintechnikakademie.de/event/qualitaetsmanagementbeauftragter-qmb-fuer-medizinprodukte-5/
CATEGORIES:Online Schulungen,Seminare,Vorgaben, Regularien und Normen
ATTACH;FMTTYPE=image/jpeg:https://medizintechnikakademie.de/wp-content/uploads/2023/02/AdobeStock_134408463-scaled.jpeg
ORGANIZER;CN="senetics healthcare group GmbH & Co. KG":MAILTO:info@senetics.de
END:VEVENT
END:VCALENDAR