BEGIN:VCALENDAR
VERSION:2.0
PRODID:-//Medizintechnikakademie - ECPv6.15.20//NONSGML v1.0//EN
CALSCALE:GREGORIAN
METHOD:PUBLISH
X-WR-CALNAME:Medizintechnikakademie
X-ORIGINAL-URL:https://medizintechnikakademie.de
X-WR-CALDESC:Veranstaltungen für Medizintechnikakademie
REFRESH-INTERVAL;VALUE=DURATION:PT1H
X-Robots-Tag:noindex
X-PUBLISHED-TTL:PT1H
BEGIN:VTIMEZONE
TZID:Europe/Berlin
BEGIN:DAYLIGHT
TZOFFSETFROM:+0100
TZOFFSETTO:+0200
TZNAME:CEST
DTSTART:20240331T010000
END:DAYLIGHT
BEGIN:STANDARD
TZOFFSETFROM:+0200
TZOFFSETTO:+0100
TZNAME:CET
DTSTART:20241027T010000
END:STANDARD
BEGIN:DAYLIGHT
TZOFFSETFROM:+0100
TZOFFSETTO:+0200
TZNAME:CEST
DTSTART:20250330T010000
END:DAYLIGHT
BEGIN:STANDARD
TZOFFSETFROM:+0200
TZOFFSETTO:+0100
TZNAME:CET
DTSTART:20251026T010000
END:STANDARD
BEGIN:DAYLIGHT
TZOFFSETFROM:+0100
TZOFFSETTO:+0200
TZNAME:CEST
DTSTART:20260329T010000
END:DAYLIGHT
BEGIN:STANDARD
TZOFFSETFROM:+0200
TZOFFSETTO:+0100
TZNAME:CET
DTSTART:20261025T010000
END:STANDARD
END:VTIMEZONE
BEGIN:VEVENT
DTSTART;TZID=Europe/Berlin:20251007T090000
DTEND;TZID=Europe/Berlin:20251007T170000
DTSTAMP:20260425T122726
CREATED:20240116T074858Z
LAST-MODIFIED:20240423T151230Z
UID:5809-1759827600-1759856400@medizintechnikakademie.de
SUMMARY:Gesetzliche Vorgaben für Medizinprodukte in der EU – (MDR)
DESCRIPTION:Ziel\nDie seit dem 26.05.2021 gültige Medical Device Regulation (MDR) bringt viele neue Anforderungen für Medizinprodukte und deren Inverkehrbringer mit sich. Der 1-tägige Kurs der senetics- Akademie gibt Ihnen einen generellen Überblick über bestehende Anforderungen und die wichtigsten Änderungen\, welche die MDR mit sich bringt. \nInhalt\nDie neue Medical Device Regulation (2017/745) ist im Mai 2017 in Kraft getreten und wird nach einem Übergangszeitraum von 3 Jahren die bisherigen Richtlinien 93/42/EWG Medical Device Directive (MDD) und 90/385/EWG Active Implantable Medical Devices Directive (AIMDD) ersetzen\, zuzüglich einer Verschiebung um 12 Monate. Hersteller aller Klassen von Medizinprodukten (I\, II und III) müssen sich auf die neuen Anforderungen vorbereiten. Zu den wichtigsten Änderungen gehören mögliche Klassifizierungsänderungen von Produkten\, Änderungen bei den Grundlegenden Anforderungen\, der Technischen Dokumentation\, der Marktüberwachung und dem Qualitätsmanagementsystem. Besonders Hersteller von Klasse III Produkten müssen sich auf das neue Scrutiny-Verfahren vorbereiten. In Deutschland gilt selbstverständlich noch das Medizinproduktegesetz weiter\, das ab Mai im Medizinprodukte-Durchführungsgesetz aufgeht undeinschlägige Änderungen insbesondere für klinische Prüfungen enthält. \nThemen\n• Die wichtigsten Unterschiede zwischen MDD und MDR• Neue Klassifizierungsregeln• Änderungen am Konformitätsbewertungsverfahren• Änderungen an der Technischen Dokumentation• Übergangszeiten und -regelungen• Nicht-Medizinprodukte\, die durch die MDR reguliert werden• Scrutiny-Verfahren• Die Rolle der EUDAMED-Datenbank• UDI (Unique Device Identification)• Post Market Surveillance• Rolle der Person für die Einhaltung der Regulierungsvorschriften• MPG und die aktuelle gesetzliche Lage in Deutschland \n  \nDauer\n1 Tag \n09.00 – 17.00 Uhr (8 Seminarstunden) \n  \nStandardpreis\n998€ zzgl. MwSt. \nNeZuMed Rabatt\n10% NeZuMed Partner = 898\,20€ zzgl. MwSt.50% NeZuMed Mitglied = 499€ zzgl. MwSt. \n  \nKontakt\nE-Mail: info@senetics.deTel.: +49 (0) 981 9724 795-0
URL:https://medizintechnikakademie.de/event/gesetzliche-vorgaben-fuer-medizinprodukte-in-der-eu-mdr-2/
CATEGORIES:Online Schulungen,Seminare,Vorgaben, Regularien und Normen
ATTACH;FMTTYPE=image/jpeg:https://medizintechnikakademie.de/wp-content/uploads/2023/02/AdobeStock_134408463-scaled.jpeg
ORGANIZER;CN="senetics healthcare group GmbH & Co. KG":MAILTO:info@senetics.de
END:VEVENT
END:VCALENDAR