BEGIN:VCALENDAR
VERSION:2.0
PRODID:-//Medizintechnikakademie - ECPv6.15.20//NONSGML v1.0//EN
CALSCALE:GREGORIAN
METHOD:PUBLISH
X-WR-CALNAME:Medizintechnikakademie
X-ORIGINAL-URL:https://medizintechnikakademie.de
X-WR-CALDESC:Veranstaltungen für Medizintechnikakademie
REFRESH-INTERVAL;VALUE=DURATION:PT1H
X-Robots-Tag:noindex
X-PUBLISHED-TTL:PT1H
BEGIN:VTIMEZONE
TZID:Europe/Berlin
BEGIN:DAYLIGHT
TZOFFSETFROM:+0100
TZOFFSETTO:+0200
TZNAME:CEST
DTSTART:20240331T010000
END:DAYLIGHT
BEGIN:STANDARD
TZOFFSETFROM:+0200
TZOFFSETTO:+0100
TZNAME:CET
DTSTART:20241027T010000
END:STANDARD
BEGIN:DAYLIGHT
TZOFFSETFROM:+0100
TZOFFSETTO:+0200
TZNAME:CEST
DTSTART:20250330T010000
END:DAYLIGHT
BEGIN:STANDARD
TZOFFSETFROM:+0200
TZOFFSETTO:+0100
TZNAME:CET
DTSTART:20251026T010000
END:STANDARD
BEGIN:DAYLIGHT
TZOFFSETFROM:+0100
TZOFFSETTO:+0200
TZNAME:CEST
DTSTART:20260329T010000
END:DAYLIGHT
BEGIN:STANDARD
TZOFFSETFROM:+0200
TZOFFSETTO:+0100
TZNAME:CET
DTSTART:20261025T010000
END:STANDARD
END:VTIMEZONE
BEGIN:VEVENT
DTSTART;TZID=Europe/Berlin:20251014T090000
DTEND;TZID=Europe/Berlin:20251014T170000
DTSTAMP:20260423T144859
CREATED:20240116T063655Z
LAST-MODIFIED:20240423T145851Z
UID:5754-1760432400-1760461200@medizintechnikakademie.de
SUMMARY:Biologische Beurteilung von Medizinprodukten – Biokompatibilität gemäß DIN EN ISO 10993
DESCRIPTION:Ziel\nDer Kurs gibt einen umfassenden Überblick über die biologische Beurteilung von Medizinprodukten und die Biokompatibilität von ausgewählten Materialien nach den Methoden der DIN EN ISO 10993. \nInhalt\nMedizinprodukte\, Materialien und Rohstoffe\, die in direktem oder indirektem Kontakt mit dem menschlichen Körper stehen\, dürfen den Anwender nicht schädigen und müssen frei sein von gefährlichen Nebenwirkungen. Die Auswahl der notwendigen Prüfungen gemäß der verantwortlichen Norm DIN EN ISO 10993 stellt viele Hersteller und Anwender vor eine Herausforderung. In dem eintägigen Kurs geben wir einen umfassenden Überblick über die biologische Charakterisierung von Medizinprodukten. Es wird die Auswahl und Notwendigkeit der verschiedenen Testungen erklärt. Zudem vermitteln wir die wichtigsten Grundlagen zur Bewertung der Ergebnisse und die notwendigen Schritte zur Zulassung eines neuen Produkts. Die Teilnehmerzahl ist limitiert\, um einen regen und intensiven Austausch zwischen den Referenten und den Seminarteilnehmern zu ermöglichen. Nachfragen und Diskussionen sind explizit erlaubt und erwünscht. \nThemen\n• Testverfahren zur Bestimmung der antimikrobiellen Wirksamkeitund der Praxistauglichkeit im Klinikalltag• Erstellung und Aufbau einer toxikologischen Bewertung• Informationen zu den Methoden nach DIN EN ISO 10993• Erwartungen der Benannten Stellen und notwendige Unterlagen \n  \nDauer\n1 Tag \n09.00 – 17.00 Uhr (8 Seminarstunden) \n  \nStandardpreis\n998€ zzgl. MwSt. \n  \nNeZuMed Rabatt\n10% NeZuMed Partner = 898\,20€ zzgl. MwSt.50% NeZuMed Mitglied = 499€ zzgl. MwSt. \n  \nKontakt\nE-Mail: info@senetics.deTel.: +49 (0) 981 9724 795-0
URL:https://medizintechnikakademie.de/event/biologische-beurteilung-von-medizinprodukten-biokompatibilitaet-gemaess-din-en-iso-10993-3/
CATEGORIES:Biologische Anforderungen,Online Schulungen,Seminare
ATTACH;FMTTYPE=image/jpeg:https://medizintechnikakademie.de/wp-content/uploads/2023/02/AdobeStock_283286794-scaled.jpeg
ORGANIZER;CN="senetics healthcare group GmbH & Co. KG":MAILTO:info@senetics.de
END:VEVENT
END:VCALENDAR