BEGIN:VCALENDAR
VERSION:2.0
PRODID:-//Medizintechnikakademie - ECPv6.15.20//NONSGML v1.0//EN
CALSCALE:GREGORIAN
METHOD:PUBLISH
X-WR-CALNAME:Medizintechnikakademie
X-ORIGINAL-URL:https://medizintechnikakademie.de
X-WR-CALDESC:Veranstaltungen für Medizintechnikakademie
REFRESH-INTERVAL;VALUE=DURATION:PT1H
X-Robots-Tag:noindex
X-PUBLISHED-TTL:PT1H
BEGIN:VTIMEZONE
TZID:Europe/Berlin
BEGIN:DAYLIGHT
TZOFFSETFROM:+0100
TZOFFSETTO:+0200
TZNAME:CEST
DTSTART:20240331T010000
END:DAYLIGHT
BEGIN:STANDARD
TZOFFSETFROM:+0200
TZOFFSETTO:+0100
TZNAME:CET
DTSTART:20241027T010000
END:STANDARD
BEGIN:DAYLIGHT
TZOFFSETFROM:+0100
TZOFFSETTO:+0200
TZNAME:CEST
DTSTART:20250330T010000
END:DAYLIGHT
BEGIN:STANDARD
TZOFFSETFROM:+0200
TZOFFSETTO:+0100
TZNAME:CET
DTSTART:20251026T010000
END:STANDARD
BEGIN:DAYLIGHT
TZOFFSETFROM:+0100
TZOFFSETTO:+0200
TZNAME:CEST
DTSTART:20260329T010000
END:DAYLIGHT
BEGIN:STANDARD
TZOFFSETFROM:+0200
TZOFFSETTO:+0100
TZNAME:CET
DTSTART:20261025T010000
END:STANDARD
END:VTIMEZONE
BEGIN:VEVENT
DTSTART;TZID=Europe/Berlin:20251126T090000
DTEND;TZID=Europe/Berlin:20251126T170000
DTSTAMP:20260423T145016
CREATED:20240118T141153Z
LAST-MODIFIED:20240423T150455Z
UID:5942-1764147600-1764176400@medizintechnikakademie.de
SUMMARY:Klinische Bewertung bei Medizinprodukten nach MEDDEV 2.7/1 rev. 4 – Literaturroute versus klinische Prüfung
DESCRIPTION:Ziel\nDie Klinische Bewertung ist bei Medizinprodukten ein wichtiger Bestandteil. In unserem Seminar beschäftigen Sie Schritt für Schritt mit den wichtigsten Punkten bei der Erstellung von klinischen Bewertungen und deren rechtlichen Grundlagen. \nInhalt\nFür jedes Medizinprodukt muss laut Medizinproduktegesetz die Leistungsfähigkeit und die Eignung für den vorgesehenen Verwendungszweck nachgewiesen\, sowie eine Beurteilung der medizinischen Risiken vorgenommen werden. Dies erfolgt im Rahmen einer klinischen Bewertung auf Basis der medizinischen Fachliteratur\, eigener Untersuchungen und/oder anhand klinischer Studien. Die Entscheidung\, ob eine klinische Bewertung erstellt wird oder doch eine Studie durchgeführt werden sollte\, ist nicht immer einfach und auch die Erstellung einer informativ korrekten klinischen und erfolgreichen Bewertung hält einige Hürden parat. Dieser Kurs richtet sich hauptsächlich an Mitarbeiter der Bereiche Qualitätsmanagement und Forschung und Entwicklung von Medizintechnikunternehmen\, Medizinprodukteherstellern sowie Auftragsforschungsunternehmen. Wir vermitteln Ihnen die Anforderungen der Richtlinien\, Gesetze und Leitlinien an klinische Daten im Rahmen des Konformitätsbewertungsverfahrens für Medizinprodukte. \nThemen\n• Gesetzliche Anforderungen an klinische Bewertungen von Medizinprodukten • Bestandteile von klinischen Daten • Durchführung einer klinischen Bewertung nach MEDDEV 2.7/1 rev.4 • Literaturrecherche und –Auswertung • Risikoanalyse bei der Bewertung von klinischen Daten • Erstellen eines klinischen Berichts • Abwägung Literaturroute versus klinische Prüfung • Durchführung einer klinischen Prüfung nach DIN EN ISO 14155 • Anforderungen an ein PMCF (Post-Market Clinical Follow-Up) \nDauer\n 1 Tag \n09.00 – 17.00 Uhr (8 Seminarstunden) \n  \nStandardpreis\n998€ zzgl. MwSt. \n  \nNeZuMed Rabatt\n10% NeZuMed Partner = 898\,20€ zzgl. MwSt. \n50% NeZuMed Mitglied = 499€ zzgl. MwSt. \n  \nKontakt\nE-Mail: info@senetics.deTel.: +49 (0) 981 9724 795-0
URL:https://medizintechnikakademie.de/event/klinische-bewertung-bei-medizinprodukten-nach-meddev-2-7-1-rev-4-literaturroute-versus-klinische-pruefung-4/
CATEGORIES:Online Schulungen,Seminare,Vorgaben, Regularien und Normen
ATTACH;FMTTYPE=image/jpeg:https://medizintechnikakademie.de/wp-content/uploads/2023/02/AdobeStock_134408463-scaled.jpeg
ORGANIZER;CN="senetics healthcare group GmbH & Co. KG":MAILTO:info@senetics.de
END:VEVENT
END:VCALENDAR