BEGIN:VCALENDAR
VERSION:2.0
PRODID:-//Medizintechnikakademie - ECPv6.15.20//NONSGML v1.0//EN
CALSCALE:GREGORIAN
METHOD:PUBLISH
X-ORIGINAL-URL:https://medizintechnikakademie.de
X-WR-CALDESC:Veranstaltungen für Medizintechnikakademie
REFRESH-INTERVAL;VALUE=DURATION:PT1H
X-Robots-Tag:noindex
X-PUBLISHED-TTL:PT1H
BEGIN:VTIMEZONE
TZID:Europe/Berlin
BEGIN:DAYLIGHT
TZOFFSETFROM:+0100
TZOFFSETTO:+0200
TZNAME:CEST
DTSTART:20250330T010000
END:DAYLIGHT
BEGIN:STANDARD
TZOFFSETFROM:+0200
TZOFFSETTO:+0100
TZNAME:CET
DTSTART:20251026T010000
END:STANDARD
BEGIN:DAYLIGHT
TZOFFSETFROM:+0100
TZOFFSETTO:+0200
TZNAME:CEST
DTSTART:20260329T010000
END:DAYLIGHT
BEGIN:STANDARD
TZOFFSETFROM:+0200
TZOFFSETTO:+0100
TZNAME:CET
DTSTART:20261025T010000
END:STANDARD
BEGIN:DAYLIGHT
TZOFFSETFROM:+0100
TZOFFSETTO:+0200
TZNAME:CEST
DTSTART:20270328T010000
END:DAYLIGHT
BEGIN:STANDARD
TZOFFSETFROM:+0200
TZOFFSETTO:+0100
TZNAME:CET
DTSTART:20271031T010000
END:STANDARD
END:VTIMEZONE
BEGIN:VEVENT
DTSTART;VALUE=DATE:20260507
DTEND;VALUE=DATE:20260508
DTSTAMP:20260423T130051
CREATED:20251118T123020Z
LAST-MODIFIED:20251118T123020Z
UID:8367-1778112000-1778198399@medizintechnikakademie.de
SUMMARY:Werbung für Medizinprodukte nach MDR\, HWG\, UWG
DESCRIPTION:  \nMedizinprodukte rechtssicher bewerben\, geforderte Informationen kommunizieren\n3-Stunden-Online-Seminar \nIn der Marketingkommunikation wird das Ziel verfolgt\, Produkte in Text und Design so darzustellen\, dass sie zum Kauf bewegen. Dabei gibt es vielfältige Wege\, online und offline. Die gesamte Werbung muss sich allerdings an einen festgesetzten rechtlichen Rahmen halten\, so gilt z.B. für alle Werbeformen das Verbot der irreführenden Werbung. In der Marketingkommunikation für Medizinprodukte sind in Deutschland das Heilmittelwerbegesetz (HWG)  und die Medical Device Regulation (MDR) maßgeblich für das\, was an Kommunikation erlaubt oder gefordert ist. Wichtig sind auch die korrespondierenden Ausführungen im Gesetz gegen den unlauteren Wettbewerb (UWG). Sie erfahren in diesem Online-Seminar\, worauf Sie achten müssen\, damit Sie Ihre Medizinprodukte rechtssicher bewerben und mit den geforderten Informationen versehen. Viele Beispiele verdeutlichen die Dos and Don‘ts und helfen Ihnen Ihre Situation rechtlich besser beurteilen zu können. RAin Sabine Küchler plant hier bewusst Zeitpuffer ein\, um auch auf Ihre individuellen Konstellationen eingehen zu können. \n    	\n        Link zur Anmeldung        \n        \n 
URL:https://medizintechnikakademie.de/event/werbung-fuer-medizinprodukte-nach-mdr-hwg-uwg-3/
LOCATION:Online
ATTACH;FMTTYPE=image/jpeg:https://medizintechnikakademie.de/wp-content/uploads/2024/01/medtech-seminare.jpg
ORGANIZER;CN="Sigrid Triebf%C3%BCrst":MAILTO:info@medtech-seminare.de
END:VEVENT
BEGIN:VEVENT
DTSTART;TZID=Europe/Berlin:20260507T090000
DTEND;TZID=Europe/Berlin:20260507T170000
DTSTAMP:20260423T130051
CREATED:20251105T132259Z
LAST-MODIFIED:20251105T132320Z
UID:7502-1778144400-1778173200@medizintechnikakademie.de
SUMMARY:Einkäufer in der Medizintechnikbranche
DESCRIPTION:Ziel\nDer Kurs vermittelt Ihnen als Einkäufer alles Wichtige\, was Sie bei Ihrer Beschaffun sowie der Auswahl der Lieferanten wissen und beachten müssen\, um die Anforderungen der ISO 13485 zu erfüllen. Zudem zeigt Ihnen unser Kurs\, wie Sie die kontinuierliche Qualität Ihrer Produkte mit Hilfe von Qualifizierungen und Audits bei Ihren Lieferanten gewährleisten können und demzufolge für behördliche Inspektionen gerüstet sind. \nInhalt\nVon besonderer Bedeutung ist es\, im Einkauf und der Beschaffung die vorhandenen Risiken zu erkennen und zu minimieren. Die zeit- und kostenoptimierte Auswahl\, Qualifizierung und Bewertung von Lieferanten ist besonders unter dem Gesichtspunkt der Haftung wichtig.Für die Innovationsfähigkeit der „In-Verkehr-Bringer“ ist es zudem von großer Bedeutung\, kompetente Fertigungspartner mit hohem Innovationspotential zu finden\, zu binden und zu qualifizieren.Welche gesetzlichen Vorgaben es bei der Beschaffung und was es sonst noch beim Einkauf zu beachten gibt erfahren Sie in diesem Kurs. \nThemen\n• Suchen und Finden von innovativen Zulieferern• Was gibt es Neues in der Zulieferindustrie?• Das Medizinprodukterechtdurchführungsgesetz (MPDG) und der Bezug zum Einkauf• ISO 13485 – Rechtsrahmen nach ISO-Norm• Überwachung des QM-Systems & die technische Umsetzung• Gesetzlicher Rahmen\, Traceability• Lieferantenverträge & Lieferantenwechsel• Verantwortlichkeiten & Haftung• Beschaffung von Bauteilen\, Systemen und Komponenten• Inspektion durch die Behörde• Vorgehensweisen bei Audits• Auditierung von Lieferanten und Unterauftragnehmern• Lieferanten bewerten und qualifizieren• Risiken minimieren\, Qualitätsmanagement \n  \nDauer\n1 Tag \n09.00 – 17.00 Uhr (8 Seminarstunden) \n  \nStandardpreis\n649€ zzgl. MwSt. \nNeZuMed Rabatt\n10% NeZuMed Partner = 584\,10€ zzgl. MwSt.50% NeZuMed Mitglied = 324\,50€ zzgl. MwSt. \n  \nKontakt\nE-Mail: info@senetics.deTel.: +49 (0) 981 9724 795-0
URL:https://medizintechnikakademie.de/event/einkaeufer-in-der-medizintechnikbranche-3/
CATEGORIES:Online Schulungen,Qualifizierende Weiterbildungen,Seminare
ATTACH;FMTTYPE=image/jpeg:https://medizintechnikakademie.de/wp-content/uploads/2023/02/AdobeStock_324356487-scaled.jpeg
ORGANIZER;CN="senetics healthcare group GmbH & Co. KG":MAILTO:info@senetics.de
END:VEVENT
END:VCALENDAR