BEGIN:VCALENDAR
VERSION:2.0
PRODID:-//Medizintechnikakademie - ECPv6.15.20//NONSGML v1.0//EN
CALSCALE:GREGORIAN
METHOD:PUBLISH
X-ORIGINAL-URL:https://medizintechnikakademie.de
X-WR-CALDESC:Veranstaltungen für Medizintechnikakademie
REFRESH-INTERVAL;VALUE=DURATION:PT1H
X-Robots-Tag:noindex
X-PUBLISHED-TTL:PT1H
BEGIN:VTIMEZONE
TZID:Europe/Berlin
BEGIN:DAYLIGHT
TZOFFSETFROM:+0100
TZOFFSETTO:+0200
TZNAME:CEST
DTSTART:20250330T010000
END:DAYLIGHT
BEGIN:STANDARD
TZOFFSETFROM:+0200
TZOFFSETTO:+0100
TZNAME:CET
DTSTART:20251026T010000
END:STANDARD
BEGIN:DAYLIGHT
TZOFFSETFROM:+0100
TZOFFSETTO:+0200
TZNAME:CEST
DTSTART:20260329T010000
END:DAYLIGHT
BEGIN:STANDARD
TZOFFSETFROM:+0200
TZOFFSETTO:+0100
TZNAME:CET
DTSTART:20261025T010000
END:STANDARD
BEGIN:DAYLIGHT
TZOFFSETFROM:+0100
TZOFFSETTO:+0200
TZNAME:CEST
DTSTART:20270328T010000
END:DAYLIGHT
BEGIN:STANDARD
TZOFFSETFROM:+0200
TZOFFSETTO:+0100
TZNAME:CET
DTSTART:20271031T010000
END:STANDARD
END:VTIMEZONE
BEGIN:VEVENT
DTSTART;VALUE=DATE:20260901
DTEND;VALUE=DATE:20260903
DTSTAMP:20260423T165555
CREATED:20251118T122026Z
LAST-MODIFIED:20251118T122614Z
UID:8351-1788220800-1788393599@medizintechnikakademie.de
SUMMARY:Produktmanagement für Medizinprodukte
DESCRIPTION:  \nMedizinprodukte kundenzentriert ausrichten und zum Markterfolg führen\n2-Tages Seminar Produktmanagement \nIm Produktmanagement stehen Sie vor der Herausforderung\, neue innovative Produkte zu initiieren und die Kosten- und Ertragssituation bestehender Produkte zu verbessern. In der Medizinproduktebranche kommt hinzu\, dass Sie die rechtlichen und wirtschaftlichen Rahmenbedingungen berücksichtigen müssen\, um Ihre Produkte erfolgreich abzusetzen.\nIm Seminar geben Ihnen verschiedene Produktmanagementprozesse Orientierung\, welche Aufgaben und Techniken in den jeweiligen Phasen einzusetzen sind und welche Schnittstellen vor Ort und weltweit von Relevanz sind\, um den Produkterfolg ganzheitlich zu steuern. Sie lernen die strategische Herangehensweise für eine erfolgreiche Produktplanung und Markteinführung sowie den zielgruppengerechten Einsatz aller Marketinginstrumentarien kennen. In zahlreichen Workshops und Übungen studieren Sie die wichtigsten Produktmanagement-Tools ein\, bearbeiten Ihren Produkt-Marketing-Plan und setzen im Anschluss die erarbeiteten Lösungen direkt in die Praxis um. Neu: Sie erfahren\, wie Sie KI-unterstützt ohne Nutzung sensibler Daten diverse Recherchen schneller und zielführender durchführen können. \n    	\n        Link zur Anmeldung        \n        \n 
URL:https://medizintechnikakademie.de/event/produktmanagement-fuer-medizinprodukte-duplikat/
LOCATION:Online
ATTACH;FMTTYPE=image/jpeg:https://medizintechnikakademie.de/wp-content/uploads/2024/01/medtech-seminare.jpg
ORGANIZER;CN="Sigrid Triebf%C3%BCrst":MAILTO:info@medtech-seminare.de
END:VEVENT
BEGIN:VEVENT
DTSTART;TZID=Europe/Berlin:20260901T090000
DTEND;TZID=Europe/Berlin:20260902T170000
DTSTAMP:20260423T165555
CREATED:20251106T111016Z
LAST-MODIFIED:20251106T111035Z
UID:7757-1788253200-1788368400@medizintechnikakademie.de
SUMMARY:Interner Auditor für die ISO 13485
DESCRIPTION:Ziel\nUnser Seminar ist eine Ausbildung zur Planung\, Durchführung und Nachbereitung von internen Audits\, sowohl für Produktionsbetriebe als auch Zulieferbranche nach ISO 13485 und ISO 19011. \nWir zeigen Ihnen\, wie Sie Interne Audits praxisgerecht in Ihrem Unternehmen umsetzen können. \nInhalt\nDas senetics-Seminar „Interner Auditor: ISO 13485“ richtet sich an Experten für die Qualität von Medizinprodukten\, die ihr Wissen über die ISO 13485 vertiefen und die Effektivität des Qualitätsmanagementsystems ihrer Organisation bewerten möchten. \nDieses Seminar vermittelt die Prinzipien und Methoden effektiver Prozessaudits für Qualitätsmanagementsysteme gemäß ISO 13485 und ISO 19011. Wir zeigen Ihnen\, wie Sie Klippen umschiffen und praxisgerecht ein internes QM Audit entlang der ISO 19011 professionell vorbereiten\, durchführen und dokumentieren können. Ein erfahrener Trainer führt die Teilnehmer durch den internen Auditprozess von der Planung zur Berichterstattung über Auditergebnisse und Nachverfolgung von Korrekturmaßnahmen. Mittels einer ausgewogenen Mischung aus formellem Seminarunterricht\, praktischem Rollenspiel und Gruppen-Workshops und ein ausgefeiltes Trainingskonzept\, erwerben die Teilnehmer notwendige Auditqualifikationen. \nDie Schulung fokussiert sich auf die ISO 19011\, um so die konkreten Anforderungen eines Auditores zu vermitteln. Somit sind Sie nach der theoretischen Ausbildung bestens auf die praktische Durchführung von internen QM Audits in Ihrem Unternehmen vorbereitet! \nThemen\n• Erläuterung des Aufbaus und Umfangs der Norm ISO 13485 und der ISO 19011• Erläuterung des Geltungsbereich für das jeweilige Unternehmen\, welches die Einhaltung der Zulassungsanforderungen anstrebt• Benennung der Prinzipien für Auditierung und Auditorenpflichten• Planung eines Internen Audits• Ausarbeitung für ein mündliches und schriftliches Feedback• Richtige Dokumentationen• Ausarbeitung der Berichterstattung von Audits• Nachverfolgung von Korrekturmaßnahmen \n  \nDauer\n2 Tag \n09.00 – 17.00 Uhr (16 Seminarstunden) \n  \nStandardpreis\n1298€ zzgl. MwSt. \n  \nNeZuMed Rabatt\n10% NeZuMed Partner = 1168\,20€ zzgl. MwSt.50% NeZuMed Mitglied = 649€ zzgl. MwSt. \n  \nKontakt \nE-Mail: info@senetics.deTel.: +49 (0) 981 9724 795-0
URL:https://medizintechnikakademie.de/event/interner-auditor-fuer-die-iso-13485-duplikat/
CATEGORIES:Online Schulungen,Seminare,Vorgaben, Regularien und Normen
ATTACH;FMTTYPE=image/jpeg:https://medizintechnikakademie.de/wp-content/uploads/2023/02/AdobeStock_134408463-scaled.jpeg
ORGANIZER;CN="senetics healthcare group GmbH & Co. KG":MAILTO:info@senetics.de
END:VEVENT
END:VCALENDAR