BEGIN:VCALENDAR
VERSION:2.0
PRODID:-//Medizintechnikakademie - ECPv6.15.20//NONSGML v1.0//EN
CALSCALE:GREGORIAN
METHOD:PUBLISH
X-ORIGINAL-URL:https://medizintechnikakademie.de
X-WR-CALDESC:Veranstaltungen für Medizintechnikakademie
REFRESH-INTERVAL;VALUE=DURATION:PT1H
X-Robots-Tag:noindex
X-PUBLISHED-TTL:PT1H
BEGIN:VTIMEZONE
TZID:Europe/Berlin
BEGIN:DAYLIGHT
TZOFFSETFROM:+0100
TZOFFSETTO:+0200
TZNAME:CEST
DTSTART:20250330T010000
END:DAYLIGHT
BEGIN:STANDARD
TZOFFSETFROM:+0200
TZOFFSETTO:+0100
TZNAME:CET
DTSTART:20251026T010000
END:STANDARD
BEGIN:DAYLIGHT
TZOFFSETFROM:+0100
TZOFFSETTO:+0200
TZNAME:CEST
DTSTART:20260329T010000
END:DAYLIGHT
BEGIN:STANDARD
TZOFFSETFROM:+0200
TZOFFSETTO:+0100
TZNAME:CET
DTSTART:20261025T010000
END:STANDARD
BEGIN:DAYLIGHT
TZOFFSETFROM:+0100
TZOFFSETTO:+0200
TZNAME:CEST
DTSTART:20270328T010000
END:DAYLIGHT
BEGIN:STANDARD
TZOFFSETFROM:+0200
TZOFFSETTO:+0100
TZNAME:CET
DTSTART:20271031T010000
END:STANDARD
END:VTIMEZONE
BEGIN:VEVENT
DTSTART;VALUE=DATE:20261012
DTEND;VALUE=DATE:20261014
DTSTAMP:20260423T203941
CREATED:20251118T122046Z
LAST-MODIFIED:20251118T122610Z
UID:8352-1791763200-1791935999@medizintechnikakademie.de
SUMMARY:Produktmanagement für Medizinprodukte
DESCRIPTION:  \nMedizinprodukte kundenzentriert ausrichten und zum Markterfolg führen\n2-Tages Seminar Produktmanagement \nIm Produktmanagement stehen Sie vor der Herausforderung\, neue innovative Produkte zu initiieren und die Kosten- und Ertragssituation bestehender Produkte zu verbessern. In der Medizinproduktebranche kommt hinzu\, dass Sie die rechtlichen und wirtschaftlichen Rahmenbedingungen berücksichtigen müssen\, um Ihre Produkte erfolgreich abzusetzen.\nIm Seminar geben Ihnen verschiedene Produktmanagementprozesse Orientierung\, welche Aufgaben und Techniken in den jeweiligen Phasen einzusetzen sind und welche Schnittstellen vor Ort und weltweit von Relevanz sind\, um den Produkterfolg ganzheitlich zu steuern. Sie lernen die strategische Herangehensweise für eine erfolgreiche Produktplanung und Markteinführung sowie den zielgruppengerechten Einsatz aller Marketinginstrumentarien kennen. In zahlreichen Workshops und Übungen studieren Sie die wichtigsten Produktmanagement-Tools ein\, bearbeiten Ihren Produkt-Marketing-Plan und setzen im Anschluss die erarbeiteten Lösungen direkt in die Praxis um. Neu: Sie erfahren\, wie Sie KI-unterstützt ohne Nutzung sensibler Daten diverse Recherchen schneller und zielführender durchführen können. \n    	\n        Link zur Anmeldung        \n        \n 
URL:https://medizintechnikakademie.de/event/produktmanagement-fuer-medizinprodukte-duplikat-2/
LOCATION:Online
ATTACH;FMTTYPE=image/jpeg:https://medizintechnikakademie.de/wp-content/uploads/2024/01/medtech-seminare.jpg
ORGANIZER;CN="Sigrid Triebf%C3%BCrst":MAILTO:info@medtech-seminare.de
END:VEVENT
BEGIN:VEVENT
DTSTART;TZID=Europe/Berlin:20261012T080000
DTEND;TZID=Europe/Berlin:20261012T120000
DTSTAMP:20260423T203941
CREATED:20251106T101957Z
LAST-MODIFIED:20251106T101957Z
UID:7675-1791792000-1791806400@medizintechnikakademie.de
SUMMARY:Konforme Erweiterung von ISO 9001 zu ISO 13485
DESCRIPTION:Ziel\n\nZiel dieses Seminars ist es das Know-How zu erlangen\, wie das Qualitätsmanagement nach ISO 13485 bei einer bestehenden ISO 9001 möglichst einfach eingeführt werden kann. \nInhalt \nDa die ISO 13485 auf der ISO 9001 basiert\, eignet sich die ISO 13485 optimal als zusätzliche oder „Nachfolger“-Norm auf die ISO 9001. Inhaltlich befasst sich das Seminar mit Unterschieden und Gemeinsamkeiten zwischen den beiden Qualitätsmanagementsystemen ISO 9001 und ISO 13485. Unterstrichen werden hierbei die Bedeutung der ISO 13485 im Bereich der Medizinprodukte\, deren Einordnung im regulatorischen Umfeld (z.B. MDR/ IVDR) sowie die Rolle von benannten Stellen und Behörden. \nThemen \n• Gap-Analyse (ISO 9001 vs. ISO 13485)\n• erweiterte Anforderungen der ISO 13485\n• Anforderungen an das Risikomanagement der ISO 13485\n• Anforderungen and das Lieferantenmanagement der ISO 13485\n• Anforderungen an interne Audits sowie die Managementbewertung nach ISO 13485\n• Anforderungen an Kompetenzen und Nachweise
URL:https://medizintechnikakademie.de/event/konforme-erweiterung-von-iso-9001-zu-iso-13485-3/
CATEGORIES:Anforderungen und Know How,Management, Marketing & Vertrieb,Online Schulungen,Qualifizierende Weiterbildungen,Seminare,Vorgaben, Regularien und Normen,Zertifikatslehrgänge
END:VEVENT
BEGIN:VEVENT
DTSTART;TZID=Europe/Berlin:20261012T130000
DTEND;TZID=Europe/Berlin:20261012T170000
DTSTAMP:20260423T203941
CREATED:20251106T104929Z
LAST-MODIFIED:20251118T110528Z
UID:7717-1791810000-1791824400@medizintechnikakademie.de
SUMMARY:Konforme Erweiterung von IATF 16949 zu ISO 13485
DESCRIPTION:Ziel \nDas Ziel dieses Kurses ist es die Grundlagen zu erwerben das Qualitätsmanagementsystem ISO 13485 neben einer bestehenden IATF 16949 einzuführen. \nInhalt \nIn diesem Seminar sollen die beiden Qualitätsmanagementsysteme IATF 16949 (Automotive) und ISO 13485 (Medizinprodukte) gegenübergestellt werden\, um einen Überblick zu erhalten\, wie die ISO 13485 in einem Unternehmen mit bestehender IATF 16949 etabliert werden kann. Hierbei wird die ISO 13485 im regulatorischen Umfeld (z.B. MDR/ IVDR) eingeordnet und die Rolle der benannten Stellen sowie von Behörden erläutert. \nThemen \n• Gap-Analyse: IATF 16949 vs. ISO 13485\n• Mögliche Synergien nutzen (z. B. Managementbewertung\, Audits)\n• Umgang mit widersprüchlichen Anforderungen\n• Anforderungen an Kompetenzen und Nachweise der ISO 13485\n• Anforderungen an Dokumentation und Aufzeichnungen der ISO 13485\n• Anforderung an die Produktentwicklung der ISO 13485\n• Anforderungen an das Lieferantenmanagement der ISO 13485\n• Anforderungen an das Risikomanagement der ISO 13485
URL:https://medizintechnikakademie.de/event/konforme-erweiterung-von-iatf-16649-zu-iso-13485-4/
CATEGORIES:Anforderungen und Know How,Management, Marketing & Vertrieb,Online Schulungen,Qualifizierende Weiterbildungen,Seminare,Vorgaben, Regularien und Normen,Zertifikatslehrgänge
END:VEVENT
END:VCALENDAR