BEGIN:VCALENDAR
VERSION:2.0
PRODID:-//Medizintechnikakademie - ECPv6.15.20//NONSGML v1.0//EN
CALSCALE:GREGORIAN
METHOD:PUBLISH
X-WR-CALNAME:Medizintechnikakademie
X-ORIGINAL-URL:https://medizintechnikakademie.de
X-WR-CALDESC:Veranstaltungen für Medizintechnikakademie
REFRESH-INTERVAL;VALUE=DURATION:PT1H
X-Robots-Tag:noindex
X-PUBLISHED-TTL:PT1H
BEGIN:VTIMEZONE
TZID:Europe/Berlin
BEGIN:DAYLIGHT
TZOFFSETFROM:+0100
TZOFFSETTO:+0200
TZNAME:CEST
DTSTART:20250330T010000
END:DAYLIGHT
BEGIN:STANDARD
TZOFFSETFROM:+0200
TZOFFSETTO:+0100
TZNAME:CET
DTSTART:20251026T010000
END:STANDARD
BEGIN:DAYLIGHT
TZOFFSETFROM:+0100
TZOFFSETTO:+0200
TZNAME:CEST
DTSTART:20260329T010000
END:DAYLIGHT
BEGIN:STANDARD
TZOFFSETFROM:+0200
TZOFFSETTO:+0100
TZNAME:CET
DTSTART:20261025T010000
END:STANDARD
BEGIN:DAYLIGHT
TZOFFSETFROM:+0100
TZOFFSETTO:+0200
TZNAME:CEST
DTSTART:20270328T010000
END:DAYLIGHT
BEGIN:STANDARD
TZOFFSETFROM:+0200
TZOFFSETTO:+0100
TZNAME:CET
DTSTART:20271031T010000
END:STANDARD
END:VTIMEZONE
BEGIN:VEVENT
DTSTART;VALUE=DATE:20261123
DTEND;VALUE=DATE:20261125
DTSTAMP:20260423T220910
CREATED:20251118T122116Z
LAST-MODIFIED:20251118T122116Z
UID:8347-1795392000-1795564799@medizintechnikakademie.de
SUMMARY:Produktmanagement für Medizinprodukte
DESCRIPTION:  \nMedizinprodukte kundenzentriert ausrichten und zum Markterfolg führen\n2-Tages Seminar Produktmanagement \nIm Produktmanagement stehen Sie vor der Herausforderung\, neue innovative Produkte zu initiieren und die Kosten- und Ertragssituation bestehender Produkte zu verbessern. In der Medizinproduktebranche kommt hinzu\, dass Sie die rechtlichen und wirtschaftlichen Rahmenbedingungen berücksichtigen müssen\, um Ihre Produkte erfolgreich abzusetzen.\nIm Seminar geben Ihnen verschiedene Produktmanagementprozesse Orientierung\, welche Aufgaben und Techniken in den jeweiligen Phasen einzusetzen sind und welche Schnittstellen vor Ort und weltweit von Relevanz sind\, um den Produkterfolg ganzheitlich zu steuern. Sie lernen die strategische Herangehensweise für eine erfolgreiche Produktplanung und Markteinführung sowie den zielgruppengerechten Einsatz aller Marketinginstrumentarien kennen. In zahlreichen Workshops und Übungen studieren Sie die wichtigsten Produktmanagement-Tools ein\, bearbeiten Ihren Produkt-Marketing-Plan und setzen im Anschluss die erarbeiteten Lösungen direkt in die Praxis um. Neu: Sie erfahren\, wie Sie KI-unterstützt ohne Nutzung sensibler Daten diverse Recherchen schneller und zielführender durchführen können. \n    	\n        Link zur Anmeldung        \n        \n 
URL:https://medizintechnikakademie.de/event/produktmanagement-fuer-medizinprodukte-5/
LOCATION:Online
ATTACH;FMTTYPE=image/jpeg:https://medizintechnikakademie.de/wp-content/uploads/2024/01/medtech-seminare.jpg
ORGANIZER;CN="Sigrid Triebf%C3%BCrst":MAILTO:info@medtech-seminare.de
END:VEVENT
BEGIN:VEVENT
DTSTART;TZID=Europe/Berlin:20261124T090000
DTEND;TZID=Europe/Berlin:20261125T170000
DTSTAMP:20260423T220910
CREATED:20251106T133528Z
LAST-MODIFIED:20251117T122127Z
UID:7987-1795510800-1795626000@medizintechnikakademie.de
SUMMARY:Kurs für Start-Ups – Anforderungen & Fördermöglichkeiten
DESCRIPTION:Ziel\nWir zeigen Ihnen\, wie Sie als Zulieferer in der Medizintechnikbranche Fuß fassen können und welche Regularien und Anforderungen dabei auf Sie zukommen. In dem 2-tägigen Intensiv-Crashkurs geben wir einen umfassenden Überblick über die Branche\, die Akteure\, Zukunftsthemen und „Essentials“ für Aufbau und Ausbau der Geschäftstätigkeit in der Medizintechnik. \nInhalt\nEntscheidend für den erfolgreichen Marktzugang und Geschäftsausbau in der Medizin ist die Etablierung persönlicher Kontakte in der MedTech-Community und zu den Entscheidungsträgern der OEMs. Für Unternehmen\, die bisher hauptsächlich Erfahrung mit z.B. der Automotive-Branche hatten\, sind zunächst die gravierenden Unterschiede zur Medizintechnik bemerkenswert. Die Medizinbranchen bieten sowohl für Zulieferer als auch für die Entwicklungspartner gute Möglichkeiten der Diversifizierung\, jedoch unterscheiden sich Branchenstruktur\, Unternehmenskultur und Anforderungen der Kunden in der Medizintechnik deutlich von anderen Branchen. Der Crashkurs bietet eine sehr detaillierte und fundierte Informationsbasis für die Teilnehmer. Die Teilnehmerzahl ist limitiert\, um einen regen und intensiven Austausch zwischen den Referenten und den Seminarteilnehmern zu ermöglichen. Nachfragen und Diskussionen sind explizit erlaubt und erwünscht. \nThemen\n• Grundlagen für Aufbau und Ausbau der Geschäftstätigkeit in der Wachstumsbranche Medizintechnik• Marktumfeld und Marktzahlen für Medizinprodukte und Medizintechnik• Typische Medizinproduktehersteller und deren Portfolio • Zielorientierte Argumentation und Kommunikation• Chancen für Einwegartikel in der Medizintechnik• Produktion im Wachstumsfeld Prothetik und Implantate• Relevante Regularien und Verordnungen wie MDR\, IVDR• Risikomanagement nach DIN EN ISO 14971• Normgerechte Produktion nach DIN EN ISO 13485• Neuentwicklungen\, Innovationsmanagement• Zulieferer und Systemlieferant in der Medizintechnik• Marketing und Vertrieb in der Medizintechnik• Kundenakquise und Kundenpflege• Strategieentwicklung und Tipps für den Ausbau der Geschäftstätigkeit in der Medizintechnik \nDauer\n16 Seminarstunden – 2 TageTag 1: 09.00 – 17.00 Uhr (8 Seminarstunden)Tag 2: 09.00 – 17.00 Uhr (8 Seminarstunden) \n  \nStandardpreis\n1298\,00€ zzgl. MwSt. \n  \nNeZuMed Rabatt\n10% NeZuMed Partner = 1168\,20€ zzgl. MwSt. \n50% NeZuMed Mitglied = 649\,00€ zzgl. MwSt. \n \nKontakt\nE-Mail: info@senetics.deTel.: +49 (0) 981 9724 795-0
URL:https://medizintechnikakademie.de/event/kurs-fuer-start-ups-anforderungen-foerdermoeglichkeiten-5/
CATEGORIES:Anforderungen und Know How,Online Schulungen,Seminare
ATTACH;FMTTYPE=image/jpeg:https://medizintechnikakademie.de/wp-content/uploads/2023/02/AdobeStock_205457480-scaled.jpeg
ORGANIZER;CN="senetics healthcare group GmbH & Co. KG":MAILTO:info@senetics.de
END:VEVENT
END:VCALENDAR