BEGIN:VCALENDAR
VERSION:2.0
PRODID:-//Medizintechnikakademie - ECPv6.15.20//NONSGML v1.0//EN
CALSCALE:GREGORIAN
METHOD:PUBLISH
X-WR-CALNAME:Medizintechnikakademie
X-ORIGINAL-URL:https://medizintechnikakademie.de
X-WR-CALDESC:Veranstaltungen für Medizintechnikakademie
REFRESH-INTERVAL;VALUE=DURATION:PT1H
X-Robots-Tag:noindex
X-PUBLISHED-TTL:PT1H
BEGIN:VTIMEZONE
TZID:Europe/Berlin
BEGIN:DAYLIGHT
TZOFFSETFROM:+0100
TZOFFSETTO:+0200
TZNAME:CEST
DTSTART:20240331T010000
END:DAYLIGHT
BEGIN:STANDARD
TZOFFSETFROM:+0200
TZOFFSETTO:+0100
TZNAME:CET
DTSTART:20241027T010000
END:STANDARD
BEGIN:DAYLIGHT
TZOFFSETFROM:+0100
TZOFFSETTO:+0200
TZNAME:CEST
DTSTART:20250330T010000
END:DAYLIGHT
BEGIN:STANDARD
TZOFFSETFROM:+0200
TZOFFSETTO:+0100
TZNAME:CET
DTSTART:20251026T010000
END:STANDARD
BEGIN:DAYLIGHT
TZOFFSETFROM:+0100
TZOFFSETTO:+0200
TZNAME:CEST
DTSTART:20260329T010000
END:DAYLIGHT
BEGIN:STANDARD
TZOFFSETFROM:+0200
TZOFFSETTO:+0100
TZNAME:CET
DTSTART:20261025T010000
END:STANDARD
END:VTIMEZONE
BEGIN:VEVENT
DTSTART;TZID=Europe/Berlin:20250312T090000
DTEND;TZID=Europe/Berlin:20250312T170000
DTSTAMP:20260425T153835
CREATED:20240116T074200Z
LAST-MODIFIED:20240423T155218Z
UID:5793-1741770000-1741798800@medizintechnikakademie.de
SUMMARY:Gesetzliche Vorgaben für Medizinprodukte in der EU – (MDR)
DESCRIPTION:Ziel\nDie seit dem 26.05.2021 gültige Medical Device Regulation (MDR) bringt viele neue Anforderungen für Medizinprodukte und deren Inverkehrbringer mit sich. Der 1-tägige Kurs der senetics- Akademie gibt Ihnen einen generellen Überblick über bestehende Anforderungen und die wichtigsten Änderungen\, welche die MDR mit sich bringt. \nInhalt\nDie neue Medical Device Regulation (2017/745) ist im Mai 2017 in Kraft getreten und wird nach einem Übergangszeitraum von 3 Jahren die bisherigen Richtlinien 93/42/EWG Medical Device Directive (MDD) und 90/385/EWG Active Implantable Medical Devices Directive (AIMDD) ersetzen\, zuzüglich einer Verschiebung um 12 Monate. Hersteller aller Klassen von Medizinprodukten (I\, II und III) müssen sich auf die neuen Anforderungen vorbereiten. Zu den wichtigsten Änderungen gehören mögliche Klassifizierungsänderungen von Produkten\, Änderungen bei den Grundlegenden Anforderungen\, der Technischen Dokumentation\, der Marktüberwachung und dem Qualitätsmanagementsystem. Besonders Hersteller von Klasse III Produkten müssen sich auf das neue Scrutiny-Verfahren vorbereiten. In Deutschland gilt selbstverständlich noch das Medizinproduktegesetz weiter\, das ab Mai im Medizinprodukte-Durchführungsgesetz aufgeht undeinschlägige Änderungen insbesondere für klinische Prüfungen enthält. \nThemen\n• Die wichtigsten Unterschiede zwischen MDD und MDR• Neue Klassifizierungsregeln• Änderungen am Konformitätsbewertungsverfahren• Änderungen an der Technischen Dokumentation• Übergangszeiten und -regelungen• Nicht-Medizinprodukte\, die durch die MDR reguliert werden• Scrutiny-Verfahren• Die Rolle der EUDAMED-Datenbank• UDI (Unique Device Identification)• Post Market Surveillance• Rolle der Person für die Einhaltung der Regulierungsvorschriften• MPG und die aktuelle gesetzliche Lage in Deutschland \n  \nDauer\n1 Tag \n09.00 – 17.00 Uhr (8 Seminarstunden) \n  \nStandardpreis\n998€ zzgl. MwSt. \nNeZuMed Rabatt\n10% NeZuMed Partner = 898\,20€ zzgl. MwSt.50% NeZuMed Mitglied = 499€ zzgl. MwSt. \n  \nKontakt\nE-Mail: info@senetics.deTel.: +49 (0) 981 9724 795-0
URL:https://medizintechnikakademie.de/event/gesetzliche-vorgaben-fuer-medizinprodukte-in-der-eu-mdr/
CATEGORIES:Online Schulungen,Seminare,Vorgaben, Regularien und Normen
ATTACH;FMTTYPE=image/jpeg:https://medizintechnikakademie.de/wp-content/uploads/2023/02/AdobeStock_134408463-scaled.jpeg
ORGANIZER;CN="senetics healthcare group GmbH & Co. KG":MAILTO:info@senetics.de
END:VEVENT
BEGIN:VEVENT
DTSTART;TZID=Europe/Berlin:20250313T090000
DTEND;TZID=Europe/Berlin:20250313T170000
DTSTAMP:20260425T153835
CREATED:20240116T082902Z
LAST-MODIFIED:20240423T155039Z
UID:5811-1741856400-1741885200@medizintechnikakademie.de
SUMMARY:Gesetzliche Vorgaben für Medizinprodukte in den USA –  FDA
DESCRIPTION:Ziel\nUm Medizinprodukte auf den amerikanischen Markt zu bringen\, müssen Sie andere Vorgaben berücksichtigen\, als beim europäischen Markt. Unser Kurs hilft Ihnen dabei\, den amerikanischen Medizinproduktemarkt und die Anforderungen der Food and Drug Administration (FDA) besser zu verstehen und umzusetzen. \nInhalt\nDer amerikanische Markt ist einer der weltweit größten für Medizinprodukte und für viele Hersteller ist der Schritt über den Atlantik die logische Konsequenz nach einer erfolgreichen Markteinführung Ihres Produkts in Europa. Anders als in Europa wird in Amerika die Zulassung von Medizinprodukten zentral über eine staatliche Stelle geregelt\, die Food and Drug Administration (FDA).Wie auch in Europa verlangt die FDA von Herstellern ein Qualitätsmanagementsystem\, allerdings entsprechen die Anforderungen nicht unbedingt denen der ISO 13485. Die Bundesbehörde hat Ihre Erwartungen an ein Qualitätsmanagementsystem in der Quality System Regulation(QSR) formuliert und jeder\, der Medizinprodukte auf dem amerikanischen Markt bereitstellen will\, muss die entsprechenden Anforderungen erfüllen. \nDie QSR bildet einen flexiblen Rahmen\, in dem jeder Medizinproduktehersteller sein Qualitätsmanagementsystem betreiben und an seine Bedürfnisse anpassen kann. Es umfasst beschriebene Strategien sowie Verfahren und Anweisungen\, um Tätigkeiten von der Entwicklung bis zur Produktion – und darüber hinaus – umzusetzen. Weiterhin beschreibt es die Tätigkeiten zurAufrechterhaltung des QMS selbst. \nThemen\n• Medizinprodukte in den USA und die Rolle der FDA• Registrierung und Device Listing• Klassifizierung von Medizinprodukten für den amerikanischen Markt• 510(k) Premarket Notification• Pre-Market-Approval (PMA)• Andere Zulassungsformen (De Novo)• Meldewesen der FDA• Quality System Regulation (QSR)• Vorbereitung und Durchführung eines FDA-Audits \n  \nDauer\n1 Tag \n9:00 – 17:00 Uhr (8 Seminarstunden) \n  \nStandardpreis\n998€ zzgl. MwSt. \nNeZuMed Rabatt\n10% NeZuMed Partner = 898\,20€ zzgl. MwSt.50% NeZuMed Mitglied = 499€ zzgl. MwSt. \n  \nKontakt\nE-Mail: info@senetics.deTel.: +49 (0) 981 9724 795-0
URL:https://medizintechnikakademie.de/event/gesetzliche-vorgaben-fuer-medizinprodukte-in-den-usa-fda-3/
CATEGORIES:Online Schulungen,Seminare,Vorgaben, Regularien und Normen
ATTACH;FMTTYPE=image/jpeg:https://medizintechnikakademie.de/wp-content/uploads/2023/02/AdobeStock_134408463-scaled.jpeg
ORGANIZER;CN="senetics healthcare group GmbH & Co. KG":MAILTO:info@senetics.de
END:VEVENT
BEGIN:VEVENT
DTSTART;TZID=Europe/Berlin:20250314T090000
DTEND;TZID=Europe/Berlin:20250314T170000
DTSTAMP:20260425T153835
CREATED:20240116T083901Z
LAST-MODIFIED:20240423T154902Z
UID:5824-1741942800-1741971600@medizintechnikakademie.de
SUMMARY:Gesetzliche Vorgaben für die In-vitro Diagnostika in der EU gemäß IVDR
DESCRIPTION:Ziel\nDie In-vitro-Diagnostic Regulation (IVDR) brachte große Änderungen im regulatorischen Rahmen für den EU-Marktzugang von IVD Produkten. Der 1-tägige Kurs der senetics – Akademie gibt Ihnen einen Überblick über die wichtigsten Inhalte und die neuen Anforderungen. \nInhalt\nDie IVDR\, in Kraft getreten am 25.05.2017\, ersetzt die Richtlinie (98/79/ EG) der EU für In-vitro-Diagnostika. Hersteller von In-vitro-Diagnostika müssen sich auf folgende wichtigste Änderungen einstellen: Die Erweiterung des Geltungsbereichs\, ein neues Klassifizierungssystem\, die Bestimmung einer „für die Einhaltung der Regulierungsvorschriften verantwortlichen Person“\, die Einführungen des UDI Systems sowie strengere Vorgaben die Technische Dokumentation und die Klinische Bewertung betreffend. Des Weiteren unterliegen die Mitwirkung und die Überwachung durch die Benannte Stelle strengeren Vorgaben. \nThemen\n• Vergleich IVDD und IVDR• Einführung in die IVDR• Allgemeines zur IVDR• Kapitel I-IX sowie die Anhänge der IVDR \n  \nDauer\n1 Tag \n09.00 – 17.00 Uhr (8 Seminarstunden) \n  \nStandardpreis\n998€ zzgl. MwSt. \nNeZuMed Rabatt \n10% NeZuMed Partner = 898\,20€ zzgl. MwSt.50% NeZuMed Mitglied = 499€ zzgl. MwSt.\n  \nKontakt\nE-Mail: info@senetics.deTel.: +49 (0) 981 9724 795-0
URL:https://medizintechnikakademie.de/event/gesetzliche-vorgaben-fuer-die-in-vitro-diagnostika-in-der-eu-gemaess-ivdr-3/
CATEGORIES:Online Schulungen,Seminare,Vorgaben, Regularien und Normen
ATTACH;FMTTYPE=image/jpeg:https://medizintechnikakademie.de/wp-content/uploads/2023/02/AdobeStock_134408463-scaled.jpeg
ORGANIZER;CN="senetics healthcare group GmbH & Co. KG":MAILTO:info@senetics.de
END:VEVENT
BEGIN:VEVENT
DTSTART;TZID=Europe/Berlin:20250318T090000
DTEND;TZID=Europe/Berlin:20250318T170000
DTSTAMP:20260425T153835
CREATED:20240116T084847Z
LAST-MODIFIED:20240423T154747Z
UID:5836-1742288400-1742317200@medizintechnikakademie.de
SUMMARY:Risikomanagement für Medizinprodukte - Gemäß DIN EN ISO 14971
DESCRIPTION:Ziel\nDas 1-tägige Seminar vermittelt Ihnen die wichtigsten Grundlagen und Methoden zur Durchführung des Risikomanagements nach DIN EN ISO 14971. Sie beschreibt einen Risikomanagementprozess\, der sicherstellen soll\, dass die Risiken durch Medizinprodukte bekannt und beherrscht sind und im Vergleich zum Nutzen akzeptabel sind. \nInhalt\nEin umfassender Risikomanagementprozess für Medizinprodukte ist essentiell. Bei der Umsetzung des Risikomanagements nach DIN EN ISO 14971 werden Risikoanalyse\, Risikobewertung\, Maßnahmenmanagement und die Neubewertung des Risikos nach der Maßnahmenumsetzung umgesetzt. \nZiel des Risikomanagements ist die Beseitigung oder zumindest die Minimierung von Risiken während der Entwicklung durch konstruktive Maßnahmen. Wo das nicht möglich ist\, müssen entsprechende Schutzmaßnahmen getroffen werden. Die Ergebnisse des Risikomanagements müssen in einer Risikomanagementakte zusammengefasst werden und sind ein wichtiger Bestandteil der Technischen Dokumentation. \nThemen\n• Regulatorische Grundlagen für das Risikomanagement• Grundlagen des Risikomanagements• Struktur des Risikomanagement-Prozesses• Methoden der Risikoanalyse• Risikokontrolle• Konkrete Beispiele zum Risikomanagement \n  \nDauer\n1 Tag \n09.00 – 17.00 Uhr (8 Seminarstunden) \n  \nStandardpreis\n998€ zzgl. MwSt. \nNeZuMed Rabatt\n10% NeZuMed Partner = 898\,20€ zzgl. MwSt.50% NeZuMed Mitglied = 499€ zzgl. MwSt. \n  \nKontakt\nE-Mail: info@senetics.deTel.: +49 (0) 981 9724 795-0
URL:https://medizintechnikakademie.de/event/risikomanagement-fuer-medizinprodukte-gemaess-din-en-iso-14971/
CATEGORIES:Online Schulungen,Qualifizierende Weiterbildungen,Seminare
ATTACH;FMTTYPE=image/jpeg:https://medizintechnikakademie.de/wp-content/uploads/2023/02/AdobeStock_324356487-scaled.jpeg
ORGANIZER;CN="senetics healthcare group GmbH & Co. KG":MAILTO:info@senetics.de
END:VEVENT
BEGIN:VEVENT
DTSTART;TZID=Europe/Berlin:20250319T090000
DTEND;TZID=Europe/Berlin:20250319T170000
DTSTAMP:20260425T153835
CREATED:20240118T121829Z
LAST-MODIFIED:20240423T154623Z
UID:5842-1742374800-1742403600@medizintechnikakademie.de
SUMMARY:Anforderungen an Software für Medizinprodukte gemäß IEC 62304
DESCRIPTION:Ziel\nDie Norm IEC 62304 stellt Mindestanforderungen für die Umsetzung und Dokumentation an die wichtigsten Software-Lebenszyklus- Prozesse. \nWie Sie eine normengerechte Entwicklung einer medizinischen Software umsetzen lernen Sie in unserem Kurs. \nInhalt\nDie Umsetzung der Konformitätsbewertungsverfahren und der Normanforderungen bei einer Software für Medizinprodukte muss ordnungsgemäß durchgeführt werden. \nDoch in welchem Falle ist ein Softwareprodukt auch ein Medizinprodukt? Viele Hersteller haben mit erheblichen Problemen zu kämpfen. \nDieser Kurs soll hier Abhilfe schaffen und auf die normativen Anforderungen sowie Validierungsmethoden eingehen. \nThemen\n• Überblick über Normen• Einführung in den Lebenszyklusprozess nach DIN EN 62304• Verifizierung und Validierung medizinischer Software• Planung von Softwaretests• Normenkonformes Risikomanagement• Anforderungen der Food and Drug Administration (FDA)• Erstellung des Device Master Record• Qualitätsmanagement nach FDA-Vorgaben• Zusammenfassung und Abschlussdiskussion \n  \nDauer\n1 Tag \n09.00 – 17.00 Uhr (8 Seminarstunden) \n  \nStandardpreis\n998€ zzgl. MwSt. \nNeZuMed Rabatt\n10% NeZuMed Partner = 898\,20€ zzgl. MwSt.50% NeZuMed Mitglied = 499€ zzgl. MwSt. \n  \nKontakt\nE-Mail: info@senetics.deTel.: +49 (0) 981 9724 795-0
URL:https://medizintechnikakademie.de/event/anforderungen-an-software-fuer-medizinprodukte-gemaess-iec-62304-2/
CATEGORIES:Entwicklung und Dokumentation,Online Schulungen,Seminare
ATTACH;FMTTYPE=image/jpeg:https://medizintechnikakademie.de/wp-content/uploads/2023/02/AdobeStock_466469473-scaled.jpeg
ORGANIZER;CN="senetics healthcare group GmbH & Co. KG":MAILTO:info@senetics.de
END:VEVENT
BEGIN:VEVENT
DTSTART;TZID=Europe/Berlin:20250320T090000
DTEND;TZID=Europe/Berlin:20250320T170000
DTSTAMP:20260425T153835
CREATED:20240118T124150Z
LAST-MODIFIED:20240423T154503Z
UID:5849-1742461200-1742490000@medizintechnikakademie.de
SUMMARY:Entwicklung medizinischer Geräte und Prüfung nach DIN EN 60601
DESCRIPTION:Ziel\nDie Elektronik ist mittlerweile ein wesentlicher Bestandteil der Medizintechnik. Was bei der Entwicklung und Prüfung medizinischer elektrischer Geräte zu beachten ist\, ist in der DIN EN 60601 festgelegt. \nIn unserem Grundkurs erhalten Sie einen Überblick über die DIN EN 60601 und deren praktische Umsetzung. \nInhalt\nDer Medizintechnikmarkt folgt laufend Innovationen mit dem Trend platzsparende\, leistungsfähige und zuverlässige Produkte herzustellen. Dabei ist die Elektronik die Basis für den Großteil dieser Anforderungen an Medizintechnikprodukte. \nDie Normenreihe DIN EN 60601 definiert Sicherheitsanforderungen und ergonomische Forderungen an medizinische elektrische Geräte und in medizinischen Systemen. \nThemen\n• Einführung in den Entwicklungsprozess• Qualitätsmanagement in der Entwicklung• Qualitätsprüfung• Überblick über die Norm• Aufbau der Normen• Praktische Umsetzung \n  \nDauer\n1 Tag \n09.00 – 17.00 Uhr (8 Seminarstunden) \n  \nStandardpreis\n998€ zzgl. MwSt. \nNeZuMed Rabatt\n10% NeZuMed Partner = 898\,20€ zzgl. MwSt.50% NeZuMed Mitglied = 499€ zzgl. MwSt. \n  \nKontakt\nE-Mail: info@senetics.de \nTel.: +49 (0) 981 9724 795-0
URL:https://medizintechnikakademie.de/event/entwicklung-medizinischer-geraete-und-pruefung-nach-din-en-60601-2/
CATEGORIES:Entwicklung und Dokumentation,Online Schulungen,Seminare
ATTACH;FMTTYPE=image/jpeg:https://medizintechnikakademie.de/wp-content/uploads/2023/02/AdobeStock_466469473-scaled.jpeg
ORGANIZER;CN="senetics healthcare group GmbH & Co. KG":MAILTO:info@senetics.de
END:VEVENT
BEGIN:VEVENT
DTSTART;TZID=Europe/Berlin:20250324T090000
DTEND;TZID=Europe/Berlin:20250325T170000
DTSTAMP:20260425T153835
CREATED:20240726T074058Z
LAST-MODIFIED:20240726T074254Z
UID:7216-1742806800-1742922000@medizintechnikakademie.de
SUMMARY:Produktmanagement für Medizinprodukte
DESCRIPTION:Medizinprodukte kundenzentriert ausrichten und zum Markterfolg führen \nBeschreibung \nIm Produktmanagement stehen Sie vor der Herausforderung\, neue innovative Produkte zu initiieren und die Kosten- und Ertragssituation bestehender Produkte zu verbessern. In der Medizinproduktebranche kommt hinzu\, dass Sie sich mit den rechtlichen und wirtschaftlichen Rahmenbedingungen auskennen müssen\, um Ihre Produkte erfolgreich abzusetzen. \nIm Seminar geben Ihnen verschiedene Produktmanagementprozesse Orientierung\, welche Aufgaben und Schnittstellen in den jeweiligen Phasen höchste Relevanz haben und wie Sie die gemeinsame Zusammenarbeit mit bewährten und neuen Techniken optimieren können. \nSie lernen die strategische Herangehensweise für eine erfolgreiche Produktplanung und Markteinführung sowie den zielgruppengerechten Einsatz aller Marketinginstrumentarien kennen. \nIn zahlreichen Workshops und Übungen studieren Sie die wichtigsten Produktmanagement-Tools ein und setzen im Anschluss die erarbeiteten Lösungen direkt in die Praxis um. \n    	\n        externer Link zur Anmeldung        \n        \n 
URL:https://medizintechnikakademie.de/event/produktmanagement-fuer-medizinprodukte-03-2025/
LOCATION:online-interaktiv
ATTACH;FMTTYPE=image/jpeg:https://medizintechnikakademie.de/wp-content/uploads/2024/01/medtech-seminare-gross.jpg
ORGANIZER;CN="Sigrid Triebf%C3%BCrst":MAILTO:info@medtech-seminare.de
END:VEVENT
END:VCALENDAR