BEGIN:VCALENDAR
VERSION:2.0
PRODID:-//Medizintechnikakademie - ECPv6.15.20//NONSGML v1.0//EN
CALSCALE:GREGORIAN
METHOD:PUBLISH
X-WR-CALNAME:Medizintechnikakademie
X-ORIGINAL-URL:https://medizintechnikakademie.de
X-WR-CALDESC:Veranstaltungen für Medizintechnikakademie
REFRESH-INTERVAL;VALUE=DURATION:PT1H
X-Robots-Tag:noindex
X-PUBLISHED-TTL:PT1H
BEGIN:VTIMEZONE
TZID:Europe/Berlin
BEGIN:DAYLIGHT
TZOFFSETFROM:+0100
TZOFFSETTO:+0200
TZNAME:CEST
DTSTART:20240331T010000
END:DAYLIGHT
BEGIN:STANDARD
TZOFFSETFROM:+0200
TZOFFSETTO:+0100
TZNAME:CET
DTSTART:20241027T010000
END:STANDARD
BEGIN:DAYLIGHT
TZOFFSETFROM:+0100
TZOFFSETTO:+0200
TZNAME:CEST
DTSTART:20250330T010000
END:DAYLIGHT
BEGIN:STANDARD
TZOFFSETFROM:+0200
TZOFFSETTO:+0100
TZNAME:CET
DTSTART:20251026T010000
END:STANDARD
BEGIN:DAYLIGHT
TZOFFSETFROM:+0100
TZOFFSETTO:+0200
TZNAME:CEST
DTSTART:20260329T010000
END:DAYLIGHT
BEGIN:STANDARD
TZOFFSETFROM:+0200
TZOFFSETTO:+0100
TZNAME:CET
DTSTART:20261025T010000
END:STANDARD
END:VTIMEZONE
BEGIN:VEVENT
DTSTART;TZID=Europe/Berlin:20250916T090000
DTEND;TZID=Europe/Berlin:20250917T170000
DTSTAMP:20260421T172108
CREATED:20240726T081814Z
LAST-MODIFIED:20240726T081814Z
UID:7223-1758013200-1758128400@medizintechnikakademie.de
SUMMARY:Produktmanagement für Medizinprodukte
DESCRIPTION:Medizinprodukte kundenzentriert ausrichten und zum Markterfolg führen \nBeschreibung \nIm Produktmanagement stehen Sie vor der Herausforderung\, neue innovative Produkte zu initiieren und die Kosten- und Ertragssituation bestehender Produkte zu verbessern. In der Medizinproduktebranche kommt hinzu\, dass Sie sich mit den rechtlichen und wirtschaftlichen Rahmenbedingungen auskennen müssen\, um Ihre Produkte erfolgreich abzusetzen. \nIm Seminar geben Ihnen verschiedene Produktmanagementprozesse Orientierung\, welche Aufgaben und Schnittstellen in den jeweiligen Phasen höchste Relevanz haben und wie Sie die gemeinsame Zusammenarbeit mit bewährten und neuen Techniken optimieren können. \nSie lernen die strategische Herangehensweise für eine erfolgreiche Produktplanung und Markteinführung sowie den zielgruppengerechten Einsatz aller Marketinginstrumentarien kennen. \nIn zahlreichen Workshops und Übungen studieren Sie die wichtigsten Produktmanagement-Tools ein und setzen im Anschluss die erarbeiteten Lösungen direkt in die Praxis um. \n    	\n        externer Link zur Anmeldung        \n        \n 
URL:https://medizintechnikakademie.de/event/produktmanagement-fuer-medizinprodukte-09-2025/
LOCATION:Präsenz Nürnberg
ATTACH;FMTTYPE=image/jpeg:https://medizintechnikakademie.de/wp-content/uploads/2024/01/medtech-seminare-gross.jpg
ORGANIZER;CN="Sigrid Triebf%C3%BCrst":MAILTO:info@medtech-seminare.de
END:VEVENT
BEGIN:VEVENT
DTSTART;TZID=Europe/Berlin:20250918T090000
DTEND;TZID=Europe/Berlin:20250918T170000
DTSTAMP:20260421T172108
CREATED:20240726T065852Z
LAST-MODIFIED:20240726T085007Z
UID:7204-1758186000-1758214800@medizintechnikakademie.de
SUMMARY:Medizinprodukte erfolgreich verkaufen
DESCRIPTION:Verkaufsstrategien effizient und effektiv umsetzen\nBeschreibung \nIm Verkauf stellen Sie eine entscheidende Verbindung zwischen Unternehmen und Kunden her. Sie verkaufen\, beraten und repräsentieren das Unternehmen nach außen. Bis zum Kaufvertrag ist es ein langer Weg: Leads generieren\, Kundengespräche souverän führen\, Produkte und damit verbundene Dienstleistungen vorstellen und gewinnbringend verkaufen. Nach dem Kauf sind Sie Ansprechpartner für alle Fragen und fördern in Zusammenarbeit mit dem Marketing den Wiederkauf und die Weiterempfehlung Ihrer Produkte.\nDieses Verkaufsseminar wird Ihnen Konzepte und Tools vorstellen\, die Sie für eine gute Verkaufsstrategie und -taktik brauchen. Sie erfahren\, wie Sie Ihre Kunden sukzessive aufbauen und bestehende Kunden effizient und effektiv pflegen. Für das Verkaufsgespräch trainieren Sie interaktiv und videounterstützt verbale\, nonverbale und paraverbale Kompetenzen. Sie lernen insbesondere\, wie Sie sich optimal auf schwierige Kunden- oder Verkaufssituationen vorbereiten können\, um dann in der Verhandlung zielsicher zum Abschluss zu kommen. \n    	\n        Externer Link zur Anmeldung        \n        \n 
URL:https://medizintechnikakademie.de/event/medizinprodukte-erfolgreich-verkaufen-09-2025/
LOCATION:Präsenz Nürnberg
ATTACH;FMTTYPE=image/jpeg:https://medizintechnikakademie.de/wp-content/uploads/2024/01/medtech-seminare-gross.jpg
ORGANIZER;CN="Sigrid Triebf%C3%BCrst":MAILTO:info@medtech-seminare.de
END:VEVENT
END:VCALENDAR