BEGIN:VCALENDAR
VERSION:2.0
PRODID:-//Medizintechnikakademie - ECPv6.15.20//NONSGML v1.0//EN
CALSCALE:GREGORIAN
METHOD:PUBLISH
X-WR-CALNAME:Medizintechnikakademie
X-ORIGINAL-URL:https://medizintechnikakademie.de
X-WR-CALDESC:Veranstaltungen für Medizintechnikakademie
REFRESH-INTERVAL;VALUE=DURATION:PT1H
X-Robots-Tag:noindex
X-PUBLISHED-TTL:PT1H
BEGIN:VTIMEZONE
TZID:Europe/Berlin
BEGIN:DAYLIGHT
TZOFFSETFROM:+0100
TZOFFSETTO:+0200
TZNAME:CEST
DTSTART:20260329T010000
END:DAYLIGHT
BEGIN:STANDARD
TZOFFSETFROM:+0200
TZOFFSETTO:+0100
TZNAME:CET
DTSTART:20261025T010000
END:STANDARD
BEGIN:DAYLIGHT
TZOFFSETFROM:+0100
TZOFFSETTO:+0200
TZNAME:CEST
DTSTART:20270328T010000
END:DAYLIGHT
BEGIN:STANDARD
TZOFFSETFROM:+0200
TZOFFSETTO:+0100
TZNAME:CET
DTSTART:20271031T010000
END:STANDARD
BEGIN:DAYLIGHT
TZOFFSETFROM:+0100
TZOFFSETTO:+0200
TZNAME:CEST
DTSTART:20280326T010000
END:DAYLIGHT
BEGIN:STANDARD
TZOFFSETFROM:+0200
TZOFFSETTO:+0100
TZNAME:CET
DTSTART:20281029T010000
END:STANDARD
END:VTIMEZONE
BEGIN:VEVENT
DTSTART;VALUE=DATE:20270622
DTEND;VALUE=DATE:20270624
DTSTAMP:20260424T013842
CREATED:20240506T101446Z
LAST-MODIFIED:20260420T080558Z
UID:7106-1813622400-1813795199@medizintechnikakademie.de
SUMMARY:Kooperationskongress Medizintechnik 2027
DESCRIPTION:Der Erfolg in der Medizintechnik definiert sich durch Innovationskraft\, Kooperationsfähigkeit\, Know-How und einem exzellenten persönlichen Netzwerk. Speziell die zunehmende Komplexität der Medizintechnik und ihre vielfältigen Regularien erfordern eine immer stärkere unternehmensübergreifende Kooperation zwischen Unternehmen und der Wissenschaft – wie auch zwischen den beiden großen Branchen Medizintechnik und Pharma. \n\n\n\nSeit über 20 Jahren wächst die deutsche Medizintechnikbranche überdurchschnittlich. Der demographische Wandel\, eine höhere Lebenserwartung\, die Zunahme der Erdbevölkerung und der Ausbau des Gesundheitswesens in Schwellenländern (BRIC-Staaten) treiben dieses Wachstum. „In-Verkehr-Bringer“ stehen hierbei vor großen Herausforderungen\, z.B. durch gestiegene gesetzliche Anforderungen (z.B. MDR/IVDR)\, durch sukzessiv geringer werdende Fertigungstiefe und benötigen zunehmend Innovationen aus der Wissenschaft und der Zulieferindustrie. Dadurch werden Ideengeber aus der Forschung und Zulieferunternehmen in der Innovationskette – durch Spezialisierung auf eigene Innovationsgebiete – an Bedeutung gewinnen. \n\n\n\nUm die Innovationsfähigkeit und die Vernetzung zu verbessern\, veranstaltet senetics im 2-jährigen Rhythmus den „Kooperationskongress Medizintechnik“. Der Kongress wird unterstützt von vielen Partnern und in Zusammenarbeit mit dem Netzwerk für innovative Zulieferer in der Medizintechnik (NeZuMed) umgesetzt. Hier treffen sich Forscher\, Entwickler\, Zulieferer\, Einkäufer und Anwender der Medizintechnik und benachbarter Branchen um sich in den Fachvorträgen über neueste Entwicklungen zu informieren\, in der begleitenden Ausstellung gemeinsame Entwicklungsprojekte zu avisieren und den fachlichen\, interdisziplinären Austausch zu pflegen. Nur durch eine intensive Zusammenarbeit und gezielte Vernetzung von Unternehmen und Forschungseinrichtungen können innovative Produkte realisiert werden und die Position im Medizintechnikmarkt gestärkt werden. \n\n\n\n\n\n \nSie sind herzlich eingeladen! Besuchen Sie den Kongress oder melden Sie sich als Aussteller an. Das gesamte Team von senetics\, das Netzwerk NeZuMed\, sowie alle Unterstützer und Partner freuen sich auf das Kennenlernen!\n\n\n\n  \n\n\n\n\nJetzt Anmelden!\n\n\n\n    	\n        Anmeldung Teilnehmer        \n         \n    	\n        Bewerbung Aussteller / Sponsor        \n         \n  \n\n\n\n\n \n\n\n\n\n\n         
URL:https://medizintechnikakademie.de/event/kooperationskongress-medizintechnik-2027/
END:VEVENT
END:VCALENDAR